BEGIN:VCALENDAR
VERSION:2.0
PRODID:-//eventon.com NONSGML v1.0//EN
CALSCALE:GREGORIAN
METHOD:PUBLISH
BEGIN:VEVENT
UID:69ea43f7b272d
DTSTAMP:20260423T160823Z
DTSTART:20190630T080000Z
DTEND:20190630T235000Z
LOCATION:The Cranleigh Showground Bookhurst Road\,  Cranleigh\,  GU6 7DW
SUMMARY:Cranleigh Show 2019
DESCRIPTION:Come and enjoy a great family day out at a traditional country 
 show in the heart of the Surrey Hills. The Show offers all-day family enter
 tainment from spectacular Main Ring displays\,  traditional livestock and e
 quine classes\,  a companion dog show\,  rural sports demonstrations and ov
 er 200 trade stands for those[..]\nhttps://www.cranleighmagazine.co.uk/even
 ts/cranleigh-show-2019/
URL:https://www.cranleighmagazine.co.uk/events/cranleigh-show-2019/
END:VEVENT
END:VCALENDAR