BEGIN:VCALENDAR
VERSION:2.0
PRODID:-//eventon.com NONSGML v1.0//EN
CALSCALE:GREGORIAN
METHOD:PUBLISH
BEGIN:VEVENT
UID:69ed90a19d752
DTSTAMP:20260426T041217Z
DTSTART:20221011T180000Z
DTEND:20221011T200000Z
LOCATION:New Victoria Theatre The Ambassadors\,  The Peacocks Centre\,  Woking\,  GU21 6GQ
SUMMARY:Ministry of Science LIVE - Science Saved the World
DESCRIPTION:Join the presenters as they dive deep into the world of science
  and look at how science shapes the modern world we live in with a few loud
  bangs along the way! They’ll take an anarchic approach to science commun
 ication whilst looking at the scientists\,  engineers and inventors who hav
 e[..]\nhttps://www.cranleighmagazine.co.uk/events/ministry-of-science-live-
 science-saved-the-world/
URL:https://www.cranleighmagazine.co.uk/events/ministry-of-science-live-science-saved-the-world/
END:VEVENT
END:VCALENDAR